BEGIN:VCALENDAR
VERSION:2.0
PRODID:-//wp-events-plugin.com//7.2.3.1//EN
TZID:Europe/Berlin
X-WR-TIMEZONE:Europe/Berlin
BEGIN:VEVENT
UID:49@greenfoodcluster.de
DTSTART;TZID=Europe/Berlin:20260420T000000
DTEND;TZID=Europe/Berlin:20260426T234500
DTSTAMP:20260420T123613Z
URL:https://www.greenfoodcluster.de/termine/stadt-fulda-verlost-zum-hessen
 -jubilaeum-80-obstbaeume-so-kann-man-gewinnen/
SUMMARY:Stadt Fulda verlost zum Hessen-Jubiläum 80 Obstbäume – so kann 
 man gewinnen
DESCRIPTION:Die Stadt Fulda verlost zum Hessen-Jubiläum 80 Obstbäume. Wer
  Fragen zum Klima richtig beantwortet\, kann gewinnen. Eine Teilnahme ist 
 bis zum 26. April möglich.\nIm Rahmen des Jubiläums „80 Jahre Hessen
 “ möchte Fulda im Jahr des Hessentags ein Zeichen für Nachhaltigkeit 
 und Zukunft setzen. In Zusammenarbeit mit dem Umweltzentrum Fulda verlost 
 die Stadt insgesamt 80 Obstbäume.\nBürgerinnen und Bürger\, die interes
 siert sind\, haben die Möglichkeit\, ihr Wissen über Klima und Umwelt in
  einem Klimaquiz zu testen. Dadurch können sie sich die Chance auf einen 
 Obstbaum sichern. Das Klimaquiz\, das insgesamt zehn Fragen umfasst\, ist 
 online unter der Adresse hessentag-fulda.de/klimaquiz zu finden.\nBeantwo
 rtet man als Teilnehmer mindestens acht Fragen richtig\, können die Konta
 ktdaten (Name\, E-Mail-Adresse) angegeben werden. Damit nimmt man dann aut
 omatisch an der Verlosung der Obstbäume teil. Die Teilnahmefrist endet am
  26. April. Die Gewinner der Obstbäume werden Ende April ausgelost.\nTeil
 nehmerinnen und Teilnehmer\, die sich für die Verlosung qualifiziert habe
 n\, erhalten zunächst eine Bestätigungsmail. Bei einem Gewinn folgt eine
  Benachrichtigung mit weiteren Informationen zur Abholung. Die 80 Obstbäu
 me werden von der Stadt Fulda nach eigenen Angaben nach dem Zufallsprinzip
  vergeben.Die Ausgabe der Bäume – es handelt sich um Apfelbäume\, Birn
 enbäume\, Pflaumenbäume und Kirschbäume – an die Gewinner erfolgt zu 
 einem festgelegten Termin im Umweltzentrum Fulda\, wo indes gerade eine n
 eue Minigolfanlage entsteht. Eine Versendung oder Zwischenlagerung der Obs
 tbäume ist ausgeschlossen\, teilte die Stadt Fulda mit.
END:VEVENT
BEGIN:VTIMEZONE
TZID:Europe/Berlin
X-LIC-LOCATION:Europe/Berlin
BEGIN:DAYLIGHT
DTSTART:20260329T030000
TZOFFSETFROM:+0100
TZOFFSETTO:+0200
TZNAME:CEST
END:DAYLIGHT
END:VTIMEZONE
END:VCALENDAR