BEGIN:VCALENDAR
VERSION:2.0
PRODID:-//wp-events-plugin.com//7.2.3.1//EN
TZID:Europe/Berlin
X-WR-TIMEZONE:Europe/Berlin
BEGIN:VEVENT
UID:50@greenfoodcluster.de
DTSTART;TZID=Europe/Berlin:20260507T140000
DTEND;TZID=Europe/Berlin:20260507T150000
DTSTAMP:20260423T122655Z
URL:https://www.greenfoodcluster.de/termine/online-informationsveranstaltu
 ng-energie-sparen-kosten-senken-zukunft-sichern/
SUMMARY:Online-Informationsveranstaltung: Energie sparen\, Kosten senken\, 
 Zukunft sichern
DESCRIPTION:Ein Thema könnte aktueller kaum sein: Energieeinsparungen betr
 effen uns alle\, sowohl Privathaushalte als auch Unternehmen.\n\nSteigende
  Energiekosten und zunehmende Anforderungen an Klimaschutz und Nachhaltigk
 eit machen es wichtiger denn je\, Einsparpotenziale zu erkennen und geziel
 t zu nutzen.\n\nWir freuen uns daher sehr\, Euch im Rahmen einer Online-In
 formationsveranstaltung praxisnahe Einblicke und  Lösungsansätze vorste
 llen zu können.\nGemeinsam mit dem Unternehmen GSG Green Solution zeigen
  wir Euch innovative Wege auf\, wie Ihr Euren Energieverbrauch nachhaltig
  reduzieren könnt.\n\nEin besonderer Fokus liegt dabei auf dem Einsatz mo
 derner Technologien:\n\n 	Drohnenbasierte Gebäudeanalysen mit Wärmebild
 kameras zur Identifikation von Energieverlusten\n 	Erstellung von 3D-Geb
 äude- und Wärmebildmodellen\n 	Analyse von Immobilien hinsichtlich Einsp
 arpotenzialen und CO₂-Kosten\n 	Bewertung von Energieerzeugungssystemen 
 im Hinblick auf Dekarbonisierung\n 	Entwicklung individueller Konzepte f
 ür eine klimafreundliche Sanierung und treibhausgasneutrale Energiegew
 innung\n\n&nbsp\;\n\nNutzt gerne die Gelegenheit\, wertvolle Impulse für 
 Eure eigenen Gebäude und Prozesse zu erhalten und sich über zukunftsfäh
 ige Technologien zu informieren.\n\nWann? Donnerstag\,  7. Mai  -  14:
 00 – 15:00 Uhr\n\nReferent: Michael Sudheimer\, GSG Green Solution GmbH\
 nOnline (Zugangsdaten folgen nach Anmeldung)
END:VEVENT
BEGIN:VTIMEZONE
TZID:Europe/Berlin
X-LIC-LOCATION:Europe/Berlin
BEGIN:DAYLIGHT
DTSTART:20260329T030000
TZOFFSETFROM:+0100
TZOFFSETTO:+0200
TZNAME:CEST
END:DAYLIGHT
END:VTIMEZONE
END:VCALENDAR